BEGIN:VCALENDAR
VERSION:2.0
PRODID:-//Squarespace Inc/Squarespace 6//v6//EN
BEGIN:VEVENT
UID:54c0cdf5e4b082dba72cfdb9@squarespace.com
DTSTAMP:20150122T102340Z
DTSTART:20150128T193000Z
DTEND:20150128T213000Z
SUMMARY:Art/Faith/Together Meetup
GEO:53.348417;-6.278222
LOCATION:Third Space Café\, Smithfield\, Smithfield Square\, Dublin
END:VEVENT
END:VCALENDAR
