BEGIN:VCALENDAR
VERSION:2.0
PRODID:-//Squarespace Inc/Squarespace 6//v6//EN
BEGIN:VEVENT
UID:548eca8ee4b0efaedbd6fa56@squarespace.com
DTSTAMP:20141215T115229Z
DTSTART:20150118T193000Z
DTEND:20150118T213000Z
SUMMARY:OM Ships Special Event
GEO:51.898141;-8.466499
LOCATION:Cork Church\, Connolly Hall\, Cork
END:VEVENT
END:VCALENDAR
