BEGIN:VCALENDAR
VERSION:2.0
PRODID:-//Squarespace Inc/Squarespace 6//v6//EN
BEGIN:VEVENT
UID:540d785ce4b0372b63c4f88f@squarespace.com
DTSTAMP:20141003T151522Z
DTSTART:20141017T180000Z
DTEND:20141017T220000Z
SUMMARY:Soul Survivor Night
GEO:53.349985;-6.254259
LOCATION:The Exchange\, Dublin 1\, 50 Lower Gardiner St\, Dublin\, Dublin\, 
 Dublin 1\, Ireland
END:VEVENT
END:VCALENDAR
