BEGIN:VCALENDAR
VERSION:2.0
PRODID:-//Squarespace Inc/Squarespace 6//v6//EN
BEGIN:VEVENT
UID:5412c750e4b056248a9d3007@squarespace.com
DTSTAMP:20140916T084620Z
DTSTART:20140926T173000Z
DTEND:20140927T220000Z
SUMMARY:Pure Worship
GEO:53.342107;-6.31349
LOCATION:Solid Rock Worship Centre\, Dublin 8\, Inchicore Rd\, Dublin\, Dub
 lin\, Ireland
END:VEVENT
END:VCALENDAR
