BEGIN:VCALENDAR
VERSION:2.0
PRODID:-//Squarespace Inc/Squarespace 6//v6//EN
BEGIN:VEVENT
UID:537608e4e4b0f6c6b6834731@squarespace.com
DTSTAMP:20140516T130850Z
DTSTART:20140608T080000Z
DTEND:20140615T160000Z
SUMMARY:Ecumenical Bible Week
END:VEVENT
END:VCALENDAR
