BEGIN:VCALENDAR
VERSION:2.0
PRODID:-//Squarespace Inc/Squarespace 6//v6//EN
BEGIN:VEVENT
UID:535fac5ce4b00f49de284233@squarespace.com
DTSTAMP:20140512T124824Z
DTSTART:20140627T170000Z
DTEND:20140629T160000Z
SUMMARY:Transforming the Mind
GEO:54.25597;-5.94771
LOCATION:Castlewellan Castle
END:VEVENT
END:VCALENDAR
