BEGIN:VCALENDAR
VERSION:2.0
PRODID:-//Squarespace Inc/Squarespace 6//v6//EN
BEGIN:VEVENT
UID:537f4fa2e4b0c5e552da2484@squarespace.com
DTSTAMP:20140523T135457Z
DTSTART:20140621T080000Z
DTEND:20140621T160000Z
SUMMARY:Caring For Ex-Offenders Training Seminar
GEO:53.343187;-6.28121
LOCATION:St. Catherine's Church\, Thomas St\, Dublin\, Dublin\, Ireland
END:VEVENT
END:VCALENDAR
