BEGIN:VCALENDAR
VERSION:2.0
PRODID:-//Squarespace Inc/Squarespace 6//v6//EN
BEGIN:VEVENT
UID:5360d716e4b00858cf8bf1bf@squarespace.com
DTSTAMP:20140430T112633Z
DTSTART:20140613T090000Z
DTEND:20140614T160000Z
SUMMARY:Irish Bible Institute Summer Institute 2014
GEO:53.352653;-6.249532
LOCATION:Ulysses HOuse\, 22-24 Foley St\, Dublin
END:VEVENT
END:VCALENDAR
