BEGIN:VCALENDAR
VERSION:2.0
PRODID:-//Squarespace Inc/Squarespace 6//v6//EN
BEGIN:VEVENT
UID:5374828de4b075c0a115dd8e@squarespace.com
DTSTAMP:20140515T091040Z
DTSTART:20140611T180000Z
DTEND:20140613T210000Z
SUMMARY:Angus Buchan in Kilkenny & Magherafelt
GEO:52.650556;-7.210537
LOCATION:Cillin Hill\, Kilkenny
END:VEVENT
END:VCALENDAR
