BEGIN:VCALENDAR
VERSION:2.0
PRODID:-//Squarespace Inc/Squarespace 6//v6//EN
BEGIN:VEVENT
UID:5332dd8ee4b0fba6200867a6@squarespace.com
DTSTAMP:20140429T135204Z
DTSTART:20140509T143000Z
DTEND:20140511T153000Z
SUMMARY:Plumbline Spring Conference
GEO:52.889744;-6.145274
LOCATION:Redcross
END:VEVENT
END:VCALENDAR
