BEGIN:VCALENDAR
VERSION:2.0
PRODID:-//Squarespace Inc/Squarespace 6//v6//EN
BEGIN:VEVENT
UID:535e71d2e4b091cbee16b6fe@squarespace.com
DTSTAMP:20140430T112507Z
DTSTART:20140509T100000Z
DTEND:20140509T113000Z
SUMMARY:Launch of new Alpha  Film
END:VEVENT
END:VCALENDAR
