BEGIN:VCALENDAR
VERSION:2.0
PRODID:-//Squarespace Inc/Squarespace 6//v6//EN
BEGIN:VEVENT
UID:53733584e4b0ccfe94369d67@squarespace.com
DTSTAMP:20140514T092805Z
DTSTART:20140519T163000Z
DTEND:20140519T183000Z
SUMMARY:Leprosy in 2014?
GEO:53.352202;-6.261116
LOCATION:Irish Aid Volunteering and Information Centre\, 31 O'Connell Stree
 t Upper\, Dublin 1\, Ireland
END:VEVENT
END:VCALENDAR
