BEGIN:VCALENDAR
VERSION:2.0
PRODID:-//Squarespace Inc/Squarespace 6//v6//EN
BEGIN:VEVENT
UID:53357f3ce4b00c9ecf066fc3@squarespace.com
DTSTAMP:20140507T153759Z
DTSTART:20140510T130000Z
DTEND:20140516T140000Z
SUMMARY:Finding Faith Tour 2014
END:VEVENT
END:VCALENDAR
