BEGIN:VCALENDAR
VERSION:2.0
PRODID:-//Squarespace Inc/Squarespace 6//v6//EN
BEGIN:VEVENT
UID:53591e56e4b0a9d1c858dd52@squarespace.com
DTSTAMP:20140430T121035Z
DTSTART:20140430T210000Z
DTEND:20140430T220000Z
SUMMARY:Tearfund Ireland Coffee Morning
END:VEVENT
END:VCALENDAR
