BEGIN:VCALENDAR
VERSION:2.0
PRODID:-//Squarespace Inc/Squarespace 6//v6//EN
BEGIN:VEVENT
UID:5357955fe4b0191d0dc88e07@squarespace.com
DTSTAMP:20140423T103053Z
DTSTART:20140429T183000Z
DTEND:20140429T203000Z
SUMMARY:24/7 Prayer Big Ask
GEO:53.349805;-6.26031
LOCATION:Trinity College\, Dublin
END:VEVENT
END:VCALENDAR
