BEGIN:VCALENDAR
VERSION:2.0
PRODID:-//Squarespace Inc/Squarespace 6//v6//EN
BEGIN:VEVENT
UID:5332c938e4b00ce9525b0392@squarespace.com
DTSTAMP:20140326T144129Z
DTSTART:20140411T130000Z
DTEND:20140413T140000Z
SUMMARY:The Christian Dance Fellowship Conference
GEO:54.18006;-6.33393
LOCATION:Newry
END:VEVENT
END:VCALENDAR
