BEGIN:VCALENDAR
VERSION:2.0
PRODID:-//Squarespace Inc/Squarespace 6//v6//EN
BEGIN:VEVENT
UID:547c4595e4b0306d2b235eb9@squarespace.com
DTSTAMP:20141201T104953Z
DTSTART:20141207T180000Z
DTEND:20141207T220000Z
SUMMARY:Dr. Grady S. McMurtry & Howard Conder in Dublin
GEO:53.335782;-6.249785
LOCATION:Regal House\, Dublin 4\, 28 Fitzwilliam Street Upper\, Dublin\, Du
 blin\, Ireland
END:VEVENT
END:VCALENDAR
