BEGIN:VCALENDAR
VERSION:2.0
PRODID:-//Squarespace Inc/Squarespace 6//v6//EN
BEGIN:VEVENT
UID:543698f8e4b00038dfdc9df4@squarespace.com
DTSTAMP:20150113T144032Z
DTSTART:20150131T100000Z
DTEND:20150131T130000Z
SUMMARY:VOX Dream Day Sligo
GEO:54.271601;-8.478299
LOCATION:Sligo Methodist Church\, Wine St\, Sligo\, Sligo\, Ireland
END:VEVENT
END:VCALENDAR
