BEGIN:VCALENDAR
VERSION:2.0
PRODID:-//Squarespace Inc/Squarespace 6//v6//EN
BEGIN:VEVENT
UID:5416c0c4e4b0608fb31864c3@squarespace.com
DTSTAMP:20140915T104042Z
DTSTART:20141005T180000Z
DTEND:20141005T200000Z
SUMMARY:George Verwer in Dublin
GEO:53.319826;-6.272006
LOCATION:Grosvenor Road Baptist Church\, Dublin
END:VEVENT
END:VCALENDAR
