BEGIN:VCALENDAR
VERSION:2.0
PRODID:-//Squarespace Inc/Squarespace 6//v6//EN
BEGIN:VEVENT
UID:5416bd5ae4b0fcb73b726aca@squarespace.com
DTSTAMP:20140915T103330Z
DTSTART:20141018T090000Z
DTEND:20141018T160000Z
SUMMARY:Inside Out Men's Conference
GEO:52.848674;-6.941606
LOCATION:Carlow Bible Church\, Sleaty Rd\, Carlow\, Laois\, Ireland
END:VEVENT
END:VCALENDAR
