BEGIN:VCALENDAR
VERSION:2.0
PRODID:-//Squarespace Inc/Squarespace 6//v6//EN
BEGIN:VEVENT
UID:5417f5dee4b0675e3a303f14@squarespace.com
DTSTAMP:20140916T083954Z
DTSTART:20141012T183000Z
DTEND:20141012T203000Z
SUMMARY:I am Girl
GEO:53.218753;-6.119883
LOCATION:Crinken Church\, Shankill
END:VEVENT
END:VCALENDAR
